BEGIN:VCALENDAR
VERSION:2.0
PRODID:-//Plone.org//NONSGML plone.app.event//EN
X-WR-TIMEZONE:Europe/Vienna
BEGIN:VEVENT
SUMMARY:Die Sichtbarkeit des Unsichtbaren
DTSTART;VALUE=DATE:20210623
DTEND;VALUE=DATE:20210629
DTSTAMP:20260419T125044Z
UID:2f8675c79e57ace110d2424b5cf716cf@www.akbild.ac.at
CATEGORIES:Ausstellungen
CREATED:20220312T085103Z
DESCRIPTION:Ausstellung und performatives Labor von Studierenden des Fachb
 ereichs Konzeptuelle Kunst (Post-Conceptual Art Practices) am Insitut für
  Bildende Kunst in Kooperation mit dem Projekt\n \n  Smashing Wor(l)ds.\n 
 \n\n\n \n  Öffnungszeiten:\n \n 14.00–18.00 h\n \n  \n \n Arbeiten am S
 chillerplatz sind ganztägig zu besichtigen
LAST-MODIFIED:20240919T081234Z
URL:https://www.akbild.ac.at/de/institute/bildende-kunst/veranstaltungen/a
 usstellungen-vermittlung/2021/die-sichtbarkeit-des-unsichtbaren
END:VEVENT
END:VCALENDAR
