BEGIN:VCALENDAR
VERSION:2.0
PRODID:-//Plone.org//NONSGML plone.app.event//EN
X-WR-TIMEZONE:Europe/Vienna
BEGIN:VEVENT
SUMMARY:Fotografie am Brillantengrund
DTSTART;VALUE=DATE:20211125
DTEND;VALUE=DATE:20211219
DTSTAMP:20260424T114255Z
UID:17c5a9b69ea448f4ff31adc5ea5048d7@www.akbild.ac.at
CATEGORIES:Ausstellungen
CREATED:20220312T085149Z
DESCRIPTION:Eine Ausstellung des Fachbereich Kunst und Fotografie.
LAST-MODIFIED:20240919T081234Z
URL:https://www.akbild.ac.at/de/institute/bildende-kunst/veranstaltungen/a
 usstellungen-vermittlung/2021/fotografie-am-briliantengrund
END:VEVENT
END:VCALENDAR
