BEGIN:VCALENDAR
VERSION:2.0
PRODID:-//Plone.org//NONSGML plone.app.event//EN
X-WR-TIMEZONE:Europe/Vienna
BEGIN:VEVENT
SUMMARY:Kurator Macht Blau
DTSTART;TZID=Europe/Vienna:20210827T150000
DTEND;TZID=Europe/Vienna:20210827T210000
DTSTAMP:20260424T000135Z
UID:921e71db05fb38d3946693e38830d600@www.akbild.ac.at
CREATED:20220312T085120Z
DESCRIPTION:Eine Ausstellung im Rahmen des Art Kolkhoz Anti-Festivals\, or
 ganisiert vom Fachbereich Erweiterter malerischer Raum\, Daniel Richter
LAST-MODIFIED:20240919T081234Z
URL:https://www.akbild.ac.at/de/institute/bildende-kunst/veranstaltungen/a
 usstellungen-vermittlung/2021/kurator-macht-blau/SubEvent
END:VEVENT
BEGIN:VTIMEZONE
TZID:Europe/Vienna
X-LIC-LOCATION:Europe/Vienna
BEGIN:DAYLIGHT
DTSTART:20210328T030000
TZNAME:CEST
TZOFFSETFROM:+0100
TZOFFSETTO:+0200
END:DAYLIGHT
END:VTIMEZONE
END:VCALENDAR
