BEGIN:VCALENDAR
VERSION:2.0
PRODID:-//Plone.org//NONSGML plone.app.event//EN
X-WR-TIMEZONE:Europe/Vienna
BEGIN:VEVENT
SUMMARY:let your freak juices flow freely
DTSTART;VALUE=DATE:20210615
DTEND;VALUE=DATE:20210630
DTSTAMP:20260423T193110Z
UID:811e1e2a25b20952406b77048e85547f@www.akbild.ac.at
CATEGORIES:Ausstellungen
CREATED:20220312T085136Z
DESCRIPTION:Eine virtuelle Ausstellung des Fachbereichs für Gegenständli
 che Malerei
LAST-MODIFIED:20240919T081234Z
URL:https://www.akbild.ac.at/de/institute/bildende-kunst/veranstaltungen/a
 usstellungen-vermittlung/2021/let-your-freak-juices-flow-freely
END:VEVENT
END:VCALENDAR
