BEGIN:VCALENDAR
VERSION:2.0
PRODID:-//Plone.org//NONSGML plone.app.event//EN
X-WR-TIMEZONE:Europe/Vienna
BEGIN:VEVENT
SUMMARY:2MUCH2SOON
DTSTART;VALUE=DATE:20220524
DTEND;VALUE=DATE:20230101
DTSTAMP:20260426T003221Z
UID:7f84fc0100544a1b8d26635df23e7456@www.akbild.ac.at
CATEGORIES:Ausstellungen
CREATED:20220523T093622Z
DESCRIPTION:Installation von hezelschaaf (Kollaboration von Cecilia Schaaf
  und Simon Hezel) auf der KUNSTWAND in Wien Mitte The Mall. Siegerprojekt 
 einer Ausschreibung von Wien Mitte in Kooperation mit Univ.-Prof. Daniel R
 ichter und dem Fachbereich Erweiterter malerischer Raum der Akademie der b
 ildenden Künste Wien.
LAST-MODIFIED:20240919T081230Z
URL:https://www.akbild.ac.at/de/institute/bildende-kunst/veranstaltungen/a
 usstellungen-vermittlung/2022/2much2soon
END:VEVENT
END:VCALENDAR
