BEGIN:VCALENDAR
VERSION:2.0
PRODID:-//Plone.org//NONSGML plone.app.event//EN
X-WR-TIMEZONE:Europe/Vienna
BEGIN:VEVENT
SUMMARY:Das Edith
DTSTART;TZID=Europe/Vienna:20230111T180000
DTSTAMP:20260424T130433Z
UID:a7e49143436c4bd597bf33a331a13590@www.akbild.ac.at
CATEGORIES:Ausstellungen
CREATED:20221107T124214Z
DESCRIPTION:Das Edith ist eine Jahresedition des Fachbereichs für Grafik 
 und druckgrafische Techniken der Akademie der bildenden Künste Wien.
LAST-MODIFIED:20240919T081230Z
URL:https://www.akbild.ac.at/de/institute/bildende-kunst/veranstaltungen/a
 usstellungen-vermittlung/2022/das-edith
END:VEVENT
BEGIN:VTIMEZONE
TZID:Europe/Vienna
X-LIC-LOCATION:Europe/Vienna
BEGIN:STANDARD
DTSTART:20221030T020000
TZNAME:CET
TZOFFSETFROM:+0200
TZOFFSETTO:+0100
END:STANDARD
END:VTIMEZONE
END:VCALENDAR
