BEGIN:VCALENDAR
VERSION:2.0
PRODID:-//Plone.org//NONSGML plone.app.event//EN
X-WR-TIMEZONE:Europe/Vienna
BEGIN:VEVENT
SUMMARY:Plötzlich Islamist
DTSTART;TZID=Europe/Vienna:20221013T180000
DTEND;TZID=Europe/Vienna:20221013T210000
DTSTAMP:20260419T132258Z
UID:6c1fb5bde46149ee9b313ccf9add433e@www.akbild.ac.at
CATEGORIES:Vorträge / Veranstaltungen
CREATED:20220930T120254Z
DESCRIPTION:In dem zweieinhalbstündigen Workshop erklärt Journalist Fabi
 an Goldmann\, wie es einige seiner Kolleg_innen immer wieder schaffen\, se
 lbst die engagiertesten Demokrat_innen zu Extremist_innen zu machen.
LAST-MODIFIED:20240919T081230Z
URL:https://www.akbild.ac.at/de/institute/bildende-kunst/veranstaltungen/a
 usstellungen-vermittlung/2022/muslim-contemporary-2022/workshop-em-ploetzl
 ich-islamist-em-mit-fabian-goldmann
END:VEVENT
BEGIN:VTIMEZONE
TZID:Europe/Vienna
X-LIC-LOCATION:Europe/Vienna
BEGIN:DAYLIGHT
DTSTART:20220327T030000
TZNAME:CEST
TZOFFSETFROM:+0100
TZOFFSETTO:+0200
END:DAYLIGHT
END:VTIMEZONE
END:VCALENDAR
