BEGIN:VCALENDAR
VERSION:2.0
PRODID:-//Plone.org//NONSGML plone.app.event//EN
X-WR-TIMEZONE:Europe/Vienna
BEGIN:VEVENT
SUMMARY:Meme the Pain Away und Islamic Geometry
DTSTART;TZID=Europe/Vienna:20221015T140000
DTEND;TZID=Europe/Vienna:20221015T170000
DTSTAMP:20260419T115336Z
UID:02f63d979d9648a78f8579d62ea0faee@www.akbild.ac.at
CATEGORIES:Vorträge / Veranstaltungen
CREATED:20220930T120930Z
DESCRIPTION:Workshops im Rahmen des MUSLIM*CONTEMPORARY 2022 Festivals.
LAST-MODIFIED:20240919T081230Z
URL:https://www.akbild.ac.at/de/institute/bildende-kunst/veranstaltungen/a
 usstellungen-vermittlung/2022/muslim-contemporary-2022/workshops-meme-the-
 pain-away-und-islamic-geometry
END:VEVENT
BEGIN:VTIMEZONE
TZID:Europe/Vienna
X-LIC-LOCATION:Europe/Vienna
BEGIN:DAYLIGHT
DTSTART:20220327T030000
TZNAME:CEST
TZOFFSETFROM:+0100
TZOFFSETTO:+0200
END:DAYLIGHT
END:VTIMEZONE
END:VCALENDAR
