BEGIN:VCALENDAR
VERSION:2.0
PRODID:-//Plone.org//NONSGML plone.app.event//EN
X-WR-TIMEZONE:Europe/Vienna
BEGIN:VEVENT
SUMMARY:Alexandru Coșarcă: Happymetal
DTSTART;TZID=Europe/Vienna:20220623T180000
DTEND;TZID=Europe/Vienna:20220623T200000
DTSTAMP:20260424T005442Z
UID:3481fa652ff54452a14beda0f9af0972@www.akbild.ac.at
CATEGORIES:Vorträge / Veranstaltungen
CREATED:20220607T084416Z
DESCRIPTION:Die Performance HAPPYMETAL findet um 18 h und 20 h im Rahmen v
 on Queering the KHM in der Ausstellung Iron Men – Mode in Stahl im Kunst
 historisches Museum Wien statt.
LAST-MODIFIED:20240919T081230Z
URL:https://www.akbild.ac.at/de/institute/bildende-kunst/veranstaltungen/a
 usstellungen-vermittlung/2022/queering-the-khm/alexandru-cosarca-happymeta
 l
END:VEVENT
BEGIN:VTIMEZONE
TZID:Europe/Vienna
X-LIC-LOCATION:Europe/Vienna
BEGIN:DAYLIGHT
DTSTART:20220327T030000
TZNAME:CEST
TZOFFSETFROM:+0100
TZOFFSETTO:+0200
END:DAYLIGHT
END:VTIMEZONE
END:VCALENDAR
