BEGIN:VCALENDAR
VERSION:2.0
PRODID:-//Plone.org//NONSGML plone.app.event//EN
X-WR-TIMEZONE:Europe/Vienna
BEGIN:VEVENT
SUMMARY:Em Schwarzwald: [em]The Elephant In The Room. Queering The KHM Whi
 le Talking To The Director[/em]
DTSTART;TZID=Europe/Vienna:20220623T154500
DTSTAMP:20260424T005459Z
UID:f3ef1635af6946e3b3db44d1905774e7@www.akbild.ac.at
CATEGORIES:Vorträge / Veranstaltungen
CREATED:20220607T090215Z
DESCRIPTION:Em Schwarzwald führt im Rahmen von Queering the KHM in ihre
 r Aktion The Elephant In The Room. Queering The KHM While Talking To The D
 irector ein Gespräch mit Sabine Haag\, das fotografisch begleitet wird.
LAST-MODIFIED:20240919T081230Z
URL:https://www.akbild.ac.at/de/institute/bildende-kunst/veranstaltungen/a
 usstellungen-vermittlung/2022/queering-the-khm/em-schwarzwald-em-the-eleph
 ant-in-the-room-em-queering-the-khm-while-talking-to-the-director
END:VEVENT
BEGIN:VTIMEZONE
TZID:Europe/Vienna
X-LIC-LOCATION:Europe/Vienna
BEGIN:DAYLIGHT
DTSTART:20220327T030000
TZNAME:CEST
TZOFFSETFROM:+0100
TZOFFSETTO:+0200
END:DAYLIGHT
END:VTIMEZONE
END:VCALENDAR
