BEGIN:VCALENDAR
VERSION:2.0
PRODID:-//Plone.org//NONSGML plone.app.event//EN
X-WR-TIMEZONE:Europe/Vienna
BEGIN:VEVENT
SUMMARY:Eröffnung: Queering the KHM
DTSTART;TZID=Europe/Vienna:20220609T190000
DTSTAMP:20260423T230325Z
UID:07a2adebddef498985b9956ae15f3a59@www.akbild.ac.at
CATEGORIES:Vorträge / Veranstaltungen
CREATED:20220602T142525Z
DESCRIPTION:Im Rahmen des Projekts Queering the KHM übersetzen die Künst
 ler_innen in ihren Arbeiten Queerness in unterschiedlichste Kunstformen un
 d bildnerische Praxen.
LAST-MODIFIED:20240919T081230Z
URL:https://www.akbild.ac.at/de/institute/bildende-kunst/veranstaltungen/a
 usstellungen-vermittlung/2022/queering-the-khm/eroeffnung-queering-the-khm
END:VEVENT
BEGIN:VTIMEZONE
TZID:Europe/Vienna
X-LIC-LOCATION:Europe/Vienna
BEGIN:DAYLIGHT
DTSTART:20220327T030000
TZNAME:CEST
TZOFFSETFROM:+0100
TZOFFSETTO:+0200
END:DAYLIGHT
END:VTIMEZONE
END:VCALENDAR
