BEGIN:VCALENDAR
VERSION:2.0
PRODID:-//Plone.org//NONSGML plone.app.event//EN
X-WR-TIMEZONE:Europe/Vienna
BEGIN:VEVENT
SUMMARY:Come una pupilla al variare della luce
DTSTART;VALUE=DATE:20230316
DTEND;VALUE=DATE:20230828
DTSTAMP:20260422T150814Z
UID:cc33ebd1c1ed4c49ac7bb9b4b3d47182@www.akbild.ac.at
CREATED:20230309T103912Z
DESCRIPTION:Constanze Ruhm\, Professorin für Kunst und digitale Medien.
LAST-MODIFIED:20240919T081227Z
URL:https://www.akbild.ac.at/de/institute/bildende-kunst/veranstaltungen/a
 usstellungen-vermittlung/2023/come-una-pupilla-al-variare-della-luce
END:VEVENT
END:VCALENDAR
