BEGIN:VCALENDAR
VERSION:2.0
PRODID:-//Plone.org//NONSGML plone.app.event//EN
X-WR-TIMEZONE:Europe/Vienna
BEGIN:VEVENT
SUMMARY:Memento Mori - Gespräch mit den Künstler_innen in der Ursulinenk
 irche
DTSTART;TZID=Europe/Vienna:20240315T180000
DTSTAMP:20260425T150456Z
UID:e7c28419b76a4f93b157bb7b2aad210a@www.akbild.ac.at
CATEGORIES:Vorträge / Veranstaltungen
CREATED:20240205T124008Z
DESCRIPTION:Gespräch mit den Künstler_innen Fiona Prohaska und Severin S
 tandhartinger\, Studierende der Kunstuniversität Linz (raum&amp\;designst
 rategien und Experimentelle Gestaltung) sowie Benjamin Ben Amotz und Daphn
 e von Schrader\, Studierende der Akademie der bildenden Künste Wien (Kuns
 t und Intervention).
LAST-MODIFIED:20240919T081224Z
URL:https://www.akbild.ac.at/de/institute/bildende-kunst/veranstaltungen/a
 usstellungen-vermittlung/2024/kunst-in-der-fastenzeit/memento-mori-gesprae
 ch-mit-den-kuenstler_innen-in-der-ursulinenkirche
END:VEVENT
BEGIN:VTIMEZONE
TZID:Europe/Vienna
X-LIC-LOCATION:Europe/Vienna
BEGIN:STANDARD
DTSTART:20231029T020000
TZNAME:CET
TZOFFSETFROM:+0200
TZOFFSETTO:+0100
END:STANDARD
END:VTIMEZONE
END:VCALENDAR
