BEGIN:VCALENDAR
VERSION:2.0
PRODID:-//Plone.org//NONSGML plone.app.event//EN
X-WR-TIMEZONE:Europe/Vienna
BEGIN:VEVENT
SUMMARY:Eröffnung Grüne Wäsche Wien
DTSTART;TZID=Europe/Vienna:20250613T190000
DTSTAMP:20260425T030717Z
UID:56845f364ed84aa08d39441fa603d5e6@www.akbild.ac.at
CATEGORIES:Führungen / Veranstaltungen
CREATED:20250528T080911Z
DESCRIPTION:Eine Ausstellung des Fachbereichs Kunst und Bild | Kontext in 
 Kooperatiuon mit dem KunstHausWien. Die Eröffnung der Ausstellung Grüne 
 Wäsche Wien findet wie geplant um 19 Uhr statt\, jedoch ohne festliche Ak
 tivitäten.
LAST-MODIFIED:20250724T081217Z
URL:https://www.akbild.ac.at/de/institute/bildende-kunst/veranstaltungen/a
 usstellungen-vermittlung/2025/gruene-waesche-wien/eroeffnung-gruene-waesch
 e-wien
END:VEVENT
BEGIN:VTIMEZONE
TZID:Europe/Vienna
X-LIC-LOCATION:Europe/Vienna
BEGIN:DAYLIGHT
DTSTART:20250330T030000
TZNAME:CEST
TZOFFSETFROM:+0100
TZOFFSETTO:+0200
END:DAYLIGHT
END:VTIMEZONE
END:VCALENDAR
