BEGIN:VCALENDAR
VERSION:2.0
PRODID:-//Plone.org//NONSGML plone.app.event//EN
X-WR-TIMEZONE:Europe/Vienna
BEGIN:VEVENT
SUMMARY:the_print_fest Vienna Edition
DTSTART;VALUE=DATE:20260420
DTEND;VALUE=DATE:20260425
DTSTAMP:20260420T174503Z
UID:47d1d1852b294c738a897bca4ffacdcd@www.akbild.ac.at
CATEGORIES:Ausstellungen
CREATED:20260420T065228Z
DESCRIPTION:Unter dem Titel Kunst\, Ökologie und das Anthropozän: Druckg
 rafik im zeitgenössischen Diskurs findet an der Akademie der bildenden K
 ünste Wien die vierte Ausgabe des the_print_fest statt. Das Festival brin
 gt KünstlerInnen\, Studierende\, Forschende und Praktizierende aus ganz E
 uropa zusammen\, um dieses Mal die Verbindungen zwischen Druckgrafik und 
 Ökologie zu erkunden.
LAST-MODIFIED:20260420T124345Z
URL:https://www.akbild.ac.at/de/institute/bildende-kunst/veranstaltungen/a
 usstellungen-vermittlung/2026/the_print_fest-vienna-edition
END:VEVENT
END:VCALENDAR
