BEGIN:VCALENDAR
VERSION:2.0
PRODID:-//Plone.org//NONSGML plone.app.event//EN
X-WR-TIMEZONE:Europe/Vienna
BEGIN:VEVENT
SUMMARY:Invisible Scapes – The sonic terrain of field recording
DTSTART;VALUE=DATE:20141119
DTEND;VALUE=DATE:20141120
DTSTAMP:20260424T045949Z
UID:1c3cb9ed78025a875c547b15db3dceb2@www.akbild.ac.at
CATEGORIES:Konferenzen
CREATED:20220312T090556Z
DESCRIPTION:Curated and moderated by F. Pomassl. \nOrganized by Soundlab\,
  Institute of Fine Arts and Anna Ceeh (Doctoral \ncandidate at Art Theory 
 and Cultural Studies) in association with IKT.
LAST-MODIFIED:20240919T081241Z
URL:https://www.akbild.ac.at/de/institute/bildende-kunst/veranstaltungen/k
 onferenzen/2014/invisible-scapes-2013-the-sonic-terrain-of-field-recording
END:VEVENT
END:VCALENDAR
