BEGIN:VCALENDAR
VERSION:2.0
PRODID:-//Plone.org//NONSGML plone.app.event//EN
X-WR-TIMEZONE:Europe/Vienna
BEGIN:VEVENT
SUMMARY:KONFERENCIJA
DTSTART;VALUE=DATE:20220426
DTEND;VALUE=DATE:20220428
DTSTAMP:20260425T104453Z
UID:c4b8041ad574495db7c8f02378e526f7@www.akbild.ac.at
CATEGORIES:Konferenzen
CREATED:20220411T071747Z
DESCRIPTION:Konferenz über Kunst und Kultur der Ex-YU Künstler\, Kurator
 en und Kulturschaffenden in Österreich.
LAST-MODIFIED:20240919T081240Z
URL:https://www.akbild.ac.at/de/institute/bildende-kunst/veranstaltungen/k
 onferenzen/2022/konferencija
END:VEVENT
END:VCALENDAR
