BEGIN:VCALENDAR
VERSION:2.0
PRODID:-//Plone.org//NONSGML plone.app.event//EN
X-WR-TIMEZONE:Europe/Vienna
BEGIN:VEVENT
SUMMARY:Internationaler PhD-Workshop in Philosophie: Migration und Gerecht
 igkeit
DTSTART;TZID=Europe/Vienna:20241126T090000
DTEND;TZID=Europe/Vienna:20241126T150000
DTSTAMP:20260425T210514Z
UID:a865d42539664dffae01c013fed3f2bb@www.akbild.ac.at
CATEGORIES:Konferenzen
CREATED:20241122T113414Z
DESCRIPTION:Koordiniert von Professorin Marina Gržinić\, Akademie der bi
 ldenden Künste Wien\, und Professorin Claudia Tazreiter\, REMESO / Abteil
 ung für Migration\, Ethnizität und Gesellschaft / Linköping University\
 , Norrköping\, Schweden.
LAST-MODIFIED:20241122T124811Z
URL:https://www.akbild.ac.at/de/institute/bildende-kunst/veranstaltungen/k
 onferenzen/2024/internationaler-phd-workshop-in-philosophie-migration-und-
 gerechtigkeit
END:VEVENT
BEGIN:VTIMEZONE
TZID:Europe/Vienna
X-LIC-LOCATION:Europe/Vienna
BEGIN:STANDARD
DTSTART:20241027T020000
TZNAME:CET
TZOFFSETFROM:+0200
TZOFFSETTO:+0100
END:STANDARD
END:VTIMEZONE
END:VCALENDAR
