BEGIN:VCALENDAR
VERSION:2.0
PRODID:-//Plone.org//NONSGML plone.app.event//EN
X-WR-TIMEZONE:Europe/Vienna
BEGIN:VEVENT
SUMMARY:Forschungs- und Austauschprogramm Doktorand_innen Österreich-Schw
 eden 2025
DTSTART;VALUE=DATE:20250310
DTEND;VALUE=DATE:20250313
DTSTAMP:20260424T130629Z
UID:650f18dcf809444e82ba1621a99b5d13@www.akbild.ac.at
CATEGORIES:Konferenzen
CREATED:20250224T114025Z
DESCRIPTION:Ein Forschungs-Austauschprogramm zwischen Österreich und Schw
 eden\, das von Prof. Dr. Marina Gržinić (Akademie der bildenden Künste 
 Wien) in Zusammenarbeit mit dem Internationalen Büro der Akademie der bil
 denden Künste Wien\, dem Erasmus Plus Programm\, der Ludwig Boltzmann Ges
 ellschaft (LBG) und der Sigmund Freud Privatuniversität Wien durch ihr In
 terdisziplinäre Forschungsstelle Islam und Muslim_innen in Österreich un
 d Europa (IFIME) initiiert wurde.
LAST-MODIFIED:20250302T174239Z
URL:https://www.akbild.ac.at/de/institute/bildende-kunst/veranstaltungen/k
 onferenzen/2025/forschungs-und-austauschprogramm-doktorand_-innen-oesterre
 ich-schweden-2025
END:VEVENT
END:VCALENDAR
