BEGIN:VCALENDAR
VERSION:2.0
PRODID:-//Plone.org//NONSGML plone.app.event//EN
X-WR-TIMEZONE:Europe/Vienna
BEGIN:VEVENT
SUMMARY:WIR SCREENEN AGAIN!
DTSTART;TZID=Europe/Vienna:20140513T180000
DTSTAMP:20260423T160947Z
UID:e10b5973cf2fb147893422c9e666e145@www.akbild.ac.at
CATEGORIES:Vorträge / Veranstaltungen
CREATED:20220312T085220Z
DESCRIPTION:Eine Veranstaltung des Instituts für bildende Kunst\, Fachber
 eich Video und Videoinstallation.
LAST-MODIFIED:20240919T081223Z
URL:https://www.akbild.ac.at/de/institute/bildende-kunst/veranstaltungen/v
 ortrage-events/2014/akbild_event.2014-05-09.6525052550
END:VEVENT
BEGIN:VTIMEZONE
TZID:Europe/Vienna
X-LIC-LOCATION:Europe/Vienna
BEGIN:DAYLIGHT
DTSTART:20140330T030000
TZNAME:CEST
TZOFFSETFROM:+0100
TZOFFSETTO:+0200
END:DAYLIGHT
END:VTIMEZONE
END:VCALENDAR
