BEGIN:VCALENDAR
VERSION:2.0
PRODID:-//Plone.org//NONSGML plone.app.event//EN
X-WR-TIMEZONE:Europe/Vienna
BEGIN:VEVENT
SUMMARY:Superblock - Free Spaces and Voids in Social Housing Blocks of the
  Red Vienna
DTSTART;TZID=Europe/Vienna:20140617T120000
DTSTAMP:20260419T115335Z
UID:f0e493c352ad6545333e045831159ccb@www.akbild.ac.at
CATEGORIES:Vorträge / Veranstaltungen
CREATED:20220312T085227Z
DESCRIPTION:Vortrag von Michael Zinganel organisiert vom Fachbereich Textu
 elle Bildhauerei.
LAST-MODIFIED:20240919T081223Z
URL:https://www.akbild.ac.at/de/institute/bildende-kunst/veranstaltungen/v
 ortrage-events/2014/superblock-free-spaces-and-voids-in-social-housing-blo
 cks-of-the-red-vienna
END:VEVENT
BEGIN:VTIMEZONE
TZID:Europe/Vienna
X-LIC-LOCATION:Europe/Vienna
BEGIN:DAYLIGHT
DTSTART:20140330T030000
TZNAME:CEST
TZOFFSETFROM:+0100
TZOFFSETTO:+0200
END:DAYLIGHT
END:VTIMEZONE
END:VCALENDAR
