BEGIN:VCALENDAR
VERSION:2.0
PRODID:-//Plone.org//NONSGML plone.app.event//EN
X-WR-TIMEZONE:Europe/Vienna
BEGIN:VEVENT
SUMMARY:Vortrag von Marissa Lôbo
DTSTART;TZID=Europe/Vienna:20141124T180000
DTSTAMP:20260424T212725Z
UID:f94c187655a9fac91160b0f730943c66@www.akbild.ac.at
CATEGORIES:Vorträge / Veranstaltungen
CREATED:20220312T085240Z
DESCRIPTION:Vortrag in englischer Sprache organisiert von Marion Porton im
  Rahmen ihres Seminars\n \n  I don't intend to speak about just near by\n 
 \n . Unterstützt vom Fachbreich Video und Videoinstallation.
LAST-MODIFIED:20240919T081224Z
URL:https://www.akbild.ac.at/de/institute/bildende-kunst/veranstaltungen/v
 ortrage-events/2014/vortrag-von-marissa-lobo
END:VEVENT
BEGIN:VTIMEZONE
TZID:Europe/Vienna
X-LIC-LOCATION:Europe/Vienna
BEGIN:STANDARD
DTSTART:20141026T020000
TZNAME:CET
TZOFFSETFROM:+0200
TZOFFSETTO:+0100
END:STANDARD
END:VTIMEZONE
END:VCALENDAR
