BEGIN:VCALENDAR
VERSION:2.0
PRODID:-//Plone.org//NONSGML plone.app.event//EN
X-WR-TIMEZONE:Europe/Vienna
BEGIN:VEVENT
SUMMARY:Das Phantom der Erinnerung
DTSTART;TZID=Europe/Vienna:20151017T140000
DTSTAMP:20260423T160146Z
UID:ee780d0bc03064c947bc4dd46aa5737c@www.akbild.ac.at
CATEGORIES:Vorträge / Veranstaltungen
CREATED:20220312T085349Z
DESCRIPTION:Vorführung des Films von Friedemann Derschmidt im Rahmen des 
 Jüdischen Filmfestivals 2015.
LAST-MODIFIED:20240919T081223Z
URL:https://www.akbild.ac.at/de/institute/bildende-kunst/veranstaltungen/v
 ortrage-events/2015/das-phantom-der-erinnerung
END:VEVENT
BEGIN:VTIMEZONE
TZID:Europe/Vienna
X-LIC-LOCATION:Europe/Vienna
BEGIN:DAYLIGHT
DTSTART:20150329T030000
TZNAME:CEST
TZOFFSETFROM:+0100
TZOFFSETTO:+0200
END:DAYLIGHT
END:VTIMEZONE
END:VCALENDAR
