BEGIN:VCALENDAR
VERSION:2.0
PRODID:-//Plone.org//NONSGML plone.app.event//EN
X-WR-TIMEZONE:Europe/Vienna
BEGIN:VEVENT
SUMMARY:Fellowship with the blue boat
DTSTART;TZID=Europe/Vienna:20151016T170000
DTSTAMP:20260426T034821Z
UID:5d36977f4088fdd5ce3fc4ba65f237fe@www.akbild.ac.at
CATEGORIES:Vorträge / Veranstaltungen
CREATED:20220312T085352Z
DESCRIPTION:Eine Veranstaltung des Fachbereichs Konzeptuelle Kunst in Koop
 eration mit Kültür Gemma\, Secession\,  Brunnenpassage.
LAST-MODIFIED:20240919T081223Z
URL:https://www.akbild.ac.at/de/institute/bildende-kunst/veranstaltungen/v
 ortrage-events/2015/fellowship-with-the-blue-boat
END:VEVENT
BEGIN:VTIMEZONE
TZID:Europe/Vienna
X-LIC-LOCATION:Europe/Vienna
BEGIN:DAYLIGHT
DTSTART:20150329T030000
TZNAME:CEST
TZOFFSETFROM:+0100
TZOFFSETTO:+0200
END:DAYLIGHT
END:VTIMEZONE
END:VCALENDAR
