BEGIN:VCALENDAR
VERSION:2.0
PRODID:-//Plone.org//NONSGML plone.app.event//EN
X-WR-TIMEZONE:Europe/Vienna
BEGIN:VEVENT
SUMMARY:From here to there and back again
DTSTART;TZID=Europe/Vienna:20151012T180000
DTSTAMP:20260424T132334Z
UID:992a75717c79481f7292ee04bca22e44@www.akbild.ac.at
CATEGORIES:Vorträge / Veranstaltungen
CREATED:20220312T085338Z
DESCRIPTION:Where is Here? Where is There? Who am I? How do I look at life
  and why?\n\n\n Lecture by Orit Ishay organized by Marina Grzinic\, Post-C
 onceptual Study Program (IBK) and Elke Krasny\, Art and Education (IKL).
LAST-MODIFIED:20240919T081220Z
URL:https://www.akbild.ac.at/de/institute/bildende-kunst/veranstaltungen/v
 ortrage-events/2015/from-here-to-there-and-back-again
END:VEVENT
BEGIN:VTIMEZONE
TZID:Europe/Vienna
X-LIC-LOCATION:Europe/Vienna
BEGIN:DAYLIGHT
DTSTART:20150329T030000
TZNAME:CEST
TZOFFSETFROM:+0100
TZOFFSETTO:+0200
END:DAYLIGHT
END:VTIMEZONE
END:VCALENDAR
