BEGIN:VCALENDAR
VERSION:2.0
PRODID:-//Plone.org//NONSGML plone.app.event//EN
X-WR-TIMEZONE:Europe/Vienna
BEGIN:VEVENT
SUMMARY:On the Art of (Re)membering Resistances | Gastvortrag von Araba Ev
 elyn Johnston-Arthur
DTSTART;TZID=Europe/Vienna:20150616T180000
DTSTAMP:20260423T101302Z
UID:d0f55174ad0791f8406fb84a591091fc@www.akbild.ac.at
CATEGORIES:Vorträge / Veranstaltungen
CREATED:20220312T085316Z
DESCRIPTION:Der Gastvortrag wird organisiert von Elke Krasny\, Institut f
 ür das Künstlerische Lehramt\, Akademie der bildenden Künste Wien\; Noi
 t Banai\, Institut für Kunstgeschichte\, Universität Wien\; Marina Grzin
 ic\, Post-Conceptual Study Program\, Akademie der bildenden Künste Wien.
LAST-MODIFIED:20240919T081220Z
URL:https://www.akbild.ac.at/de/institute/bildende-kunst/veranstaltungen/v
 ortrage-events/2015/on-the-art-of-re-membering-resistances
END:VEVENT
BEGIN:VTIMEZONE
TZID:Europe/Vienna
X-LIC-LOCATION:Europe/Vienna
BEGIN:DAYLIGHT
DTSTART:20150329T030000
TZNAME:CEST
TZOFFSETFROM:+0100
TZOFFSETTO:+0200
END:DAYLIGHT
END:VTIMEZONE
END:VCALENDAR
