BEGIN:VCALENDAR
VERSION:2.0
PRODID:-//Plone.org//NONSGML plone.app.event//EN
X-WR-TIMEZONE:Europe/Vienna
BEGIN:VEVENT
SUMMARY:Sag Du es Deinem Kinde - Nationalsozialismus in der eigenen Famili
 e
DTSTART;TZID=Europe/Vienna:20151109T193000
DTSTAMP:20260425T202046Z
UID:4778c31c3191cbd43548ec9627ffb037@www.akbild.ac.at
CATEGORIES:Vorträge / Veranstaltungen
CREATED:20220312T085413Z
DESCRIPTION:Hg. von Friedemann Derschmidt\n\n\n Mit Beiträgen von Robert 
 und Brigitte Brown\, Bernhard\, Eckhart und  Wiltrud Derschmidt\, Wolfgang
  Freidl\, Mathilde Furtenbach\, Ambros Gruber\,  Anton und Irmgard Jiresch
 \, Shimon Lev\, Herbert W. Rabl\, Margit Reiter\,  Klaus Schönberger\, Ag
 nes Suda\, Luise und Simon Wascher sowie Dietmar  Weixler.
LAST-MODIFIED:20240919T081223Z
URL:https://www.akbild.ac.at/de/institute/bildende-kunst/veranstaltungen/v
 ortrage-events/2015/sag-du-es-deinem-kinde-nationalsozialismus-in-der-eige
 nen-familie
END:VEVENT
BEGIN:VTIMEZONE
TZID:Europe/Vienna
X-LIC-LOCATION:Europe/Vienna
BEGIN:STANDARD
DTSTART:20151025T020000
TZNAME:CET
TZOFFSETFROM:+0200
TZOFFSETTO:+0100
END:STANDARD
END:VTIMEZONE
END:VCALENDAR
