BEGIN:VCALENDAR
VERSION:2.0
PRODID:-//Plone.org//NONSGML plone.app.event//EN
X-WR-TIMEZONE:Europe/Vienna
BEGIN:VEVENT
SUMMARY:Do fictive images have tangible consequences? [Kurmaca imajlarin f
 iziksel sonuclari mi var?]
DTSTART;TZID=Europe/Vienna:20160623T190000
DTSTAMP:20260424T082856Z
UID:cb6d8a9079561b8e79875df1fe8353fc@www.akbild.ac.at
CATEGORIES:Vorträge / Veranstaltungen
CREATED:20220312T085540Z
DESCRIPTION:Screening and talk with visual artist and video-maker belit sa
 ğ. Organized by the PCAP (Post Conceptual Art Practices Study Program) an
 d the Studio Art and Digital Media.\n \n Moderated by Betül Küpeli and C
 ana Bilir-Meier.\n \n Languages: English and Turkish
LAST-MODIFIED:20240919T081220Z
URL:https://www.akbild.ac.at/de/institute/bildende-kunst/veranstaltungen/v
 ortrage-events/2016/do-fictive-images-have-tangible-consequences-kurmaca-i
 majlarin-fiziksel-sonuclari-mi-var
END:VEVENT
BEGIN:VTIMEZONE
TZID:Europe/Vienna
X-LIC-LOCATION:Europe/Vienna
BEGIN:DAYLIGHT
DTSTART:20160327T030000
TZNAME:CEST
TZOFFSETFROM:+0100
TZOFFSETTO:+0200
END:DAYLIGHT
END:VTIMEZONE
END:VCALENDAR
