BEGIN:VCALENDAR
VERSION:2.0
PRODID:-//Plone.org//NONSGML plone.app.event//EN
X-WR-TIMEZONE:Europe/Vienna
BEGIN:VEVENT
SUMMARY:Simone Menegoi | The Camera's Blind Spot. Aspects of the relations
 hip between sculpture and photography
DTSTART;TZID=Europe/Vienna:20160510T120000
DTSTAMP:20260419T150457Z
UID:930ae8eed12dcc8b148565e637fda400@www.akbild.ac.at
CATEGORIES:Vorträge / Veranstaltungen
CREATED:20220312T085519Z
LAST-MODIFIED:20240919T081220Z
URL:https://www.akbild.ac.at/de/institute/bildende-kunst/veranstaltungen/v
 ortrage-events/2016/simone-menegoi-the-cameras-blind-spot.-aspects-of-the-
 relationship-between-sculpture-and-photography
END:VEVENT
BEGIN:VTIMEZONE
TZID:Europe/Vienna
X-LIC-LOCATION:Europe/Vienna
BEGIN:DAYLIGHT
DTSTART:20160327T030000
TZNAME:CEST
TZOFFSETFROM:+0100
TZOFFSETTO:+0200
END:DAYLIGHT
END:VTIMEZONE
END:VCALENDAR
