BEGIN:VCALENDAR
VERSION:2.0
PRODID:-//Plone.org//NONSGML plone.app.event//EN
X-WR-TIMEZONE:Europe/Vienna
BEGIN:VEVENT
SUMMARY:The Political Body in the Museum: Conflictual Archaeology and Genr
 e in Movement
DTSTART;TZID=Europe/Vienna:20161206T193000
DTSTAMP:20260419T134535Z
UID:a14608ec9ed3c483a2eefc40c8c563c8@www.akbild.ac.at
CATEGORIES:Vorträge / Veranstaltungen
CREATED:20220312T085631Z
DESCRIPTION:Artist talk with Yosef Joseph Dadoune organized by organized b
 y Noit Banai\, Institut für Kunstgeschichte\, Universität Wien and Marin
 a Grzinic\, Post Conceptual Study Program.
LAST-MODIFIED:20240919T081220Z
URL:https://www.akbild.ac.at/de/institute/bildende-kunst/veranstaltungen/v
 ortrage-events/2016/the-political-body-in-the-museum-conflictual-archaeolo
 gy-and-genre-in-movement
END:VEVENT
BEGIN:VTIMEZONE
TZID:Europe/Vienna
X-LIC-LOCATION:Europe/Vienna
BEGIN:STANDARD
DTSTART:20161030T020000
TZNAME:CET
TZOFFSETFROM:+0200
TZOFFSETTO:+0100
END:STANDARD
END:VTIMEZONE
END:VCALENDAR
