BEGIN:VCALENDAR
VERSION:2.0
PRODID:-//Plone.org//NONSGML plone.app.event//EN
X-WR-TIMEZONE:Europe/Vienna
BEGIN:VEVENT
SUMMARY:Theory of the Queer Identities’ Representation in the Contempora
 ry East-European Art and Culture
DTSTART;TZID=Europe/Vienna:20160308T200000
DTSTAMP:20260419T134535Z
UID:3ed278560e34e706ec445a85067f9bea@www.akbild.ac.at
CATEGORIES:Vorträge / Veranstaltungen
CREATED:20220312T085455Z
DESCRIPTION:Guest lecture by Saša Kesić\, Belgrade organized by Marina G
 rzinic\, Post Conceptual Study Program.
LAST-MODIFIED:20240919T081217Z
URL:https://www.akbild.ac.at/de/institute/bildende-kunst/veranstaltungen/v
 ortrage-events/2016/theory-of-the-queer-identities2019-representation-in-t
 he-contemporary-east-european-art-and-culture
END:VEVENT
BEGIN:VTIMEZONE
TZID:Europe/Vienna
X-LIC-LOCATION:Europe/Vienna
BEGIN:STANDARD
DTSTART:20151025T020000
TZNAME:CET
TZOFFSETFROM:+0200
TZOFFSETTO:+0100
END:STANDARD
END:VTIMEZONE
END:VCALENDAR
