BEGIN:VCALENDAR
VERSION:2.0
PRODID:-//Plone.org//NONSGML plone.app.event//EN
X-WR-TIMEZONE:Europe/Vienna
BEGIN:VEVENT
SUMMARY:Guest artists’ presentations: Dalila Gonçalves\, Portugal | Mil
 a Panić\, Bosnia and Herzegovina
DTSTART;TZID=Europe/Vienna:20171121T180000
DTSTAMP:20260424T234121Z
UID:8612fc85bf6d91f5ed713bfacc5acceb@www.akbild.ac.at
CATEGORIES:Vorträge / Veranstaltungen
CREATED:20220312T085750Z
DESCRIPTION:Organized by Marina Grzinic\, Studio for Conceptual Art (Post-
 conceptual Art Practices). The  presentation is possible thanks to the Art
 ists-in-Residence program of  the Austrian Federal Chancellery and KulturK
 ontakt Austria.
LAST-MODIFIED:20240919T081217Z
URL:https://www.akbild.ac.at/de/institute/bildende-kunst/veranstaltungen/v
 ortrage-events/2017/guest-artists2019-presentations-dalila-goncalves-portu
 gal-mila-panic-bosnia-and-herzegovina
END:VEVENT
BEGIN:VTIMEZONE
TZID:Europe/Vienna
X-LIC-LOCATION:Europe/Vienna
BEGIN:STANDARD
DTSTART:20171029T020000
TZNAME:CET
TZOFFSETFROM:+0200
TZOFFSETTO:+0100
END:STANDARD
END:VTIMEZONE
END:VCALENDAR
