BEGIN:VCALENDAR
VERSION:2.0
PRODID:-//Plone.org//NONSGML plone.app.event//EN
X-WR-TIMEZONE:Europe/Vienna
BEGIN:VEVENT
SUMMARY:Guest artists’ presentations: Vida Guzmić\, Croatia | Alexandru
  Raevschi\, Moldova | Mary-Audrey Ramirez\, Luxembourg
DTSTART;TZID=Europe/Vienna:20171114T180000
DTSTAMP:20260424T204717Z
UID:aba8e52e816e6a40d6409e8722c9e969@www.akbild.ac.at
CATEGORIES:Vorträge / Veranstaltungen
CREATED:20220312T085744Z
DESCRIPTION:Organized by Marina Grzinic\, Studio for Conceptual Art (Post-
 conceptual Art Practices). The presentation is possible thanks to the  Art
 ists-in-Residence program of the Austrian Federal Chancellery and  KulturK
 ontakt Austria.
LAST-MODIFIED:20240919T081217Z
URL:https://www.akbild.ac.at/de/institute/bildende-kunst/veranstaltungen/v
 ortrage-events/2017/guest-artists2019-presentations-vida-guzmic-croatia-al
 exandru-raevschi-moldova-mary-audrey-ramirez-luxembourg
END:VEVENT
BEGIN:VTIMEZONE
TZID:Europe/Vienna
X-LIC-LOCATION:Europe/Vienna
BEGIN:STANDARD
DTSTART:20171029T020000
TZNAME:CET
TZOFFSETFROM:+0200
TZOFFSETTO:+0100
END:STANDARD
END:VTIMEZONE
END:VCALENDAR
