BEGIN:VCALENDAR
VERSION:2.0
PRODID:-//Plone.org//NONSGML plone.app.event//EN
X-WR-TIMEZONE:Europe/Vienna
BEGIN:VEVENT
SUMMARY:Lectures by Kim Kielhofner\, Canada and Levi Orta\, Cuba
DTSTART;TZID=Europe/Vienna:20171205T180000
DTSTAMP:20260426T024652Z
UID:81bda1e34551fcb2a8c2f3466bf49f56@www.akbild.ac.at
CATEGORIES:Vorträge / Veranstaltungen
CREATED:20220312T085757Z
DESCRIPTION:Organized by Marina Grzinic\, Studio for Conceptual Art (Post-
 conceptual Art Practices). The presentation is possible thanks to the Arti
 sts-in-Residence program of the Austrian Federal Chancellery and KulturKon
 takt Austria.
LAST-MODIFIED:20240919T081217Z
URL:https://www.akbild.ac.at/de/institute/bildende-kunst/veranstaltungen/v
 ortrage-events/2017/lectures-by-kim-kielhofner-canada-and-levi-orta-cuba
END:VEVENT
BEGIN:VTIMEZONE
TZID:Europe/Vienna
X-LIC-LOCATION:Europe/Vienna
BEGIN:STANDARD
DTSTART:20171029T020000
TZNAME:CET
TZOFFSETFROM:+0200
TZOFFSETTO:+0100
END:STANDARD
END:VTIMEZONE
END:VCALENDAR
