BEGIN:VCALENDAR
VERSION:2.0
PRODID:-//Plone.org//NONSGML plone.app.event//EN
X-WR-TIMEZONE:Europe/Vienna
BEGIN:VEVENT
SUMMARY:Marika Schmiedt und Marissa Lôbo (Künstlerin und Aktivistin)
DTSTART;TZID=Europe/Vienna:20171120T190000
DTSTAMP:20260425T134036Z
UID:25d66420fe794c4d136b12e1b55148b4@www.akbild.ac.at
CATEGORIES:Vorträge / Veranstaltungen
CREATED:20220312T085747Z
DESCRIPTION:Im Rahmen des Workshops\n  \n   Intregration Nein Danke!\n  \n
   mit Gastvorträgen\, Videoprojektionen und Arbeitssitzungen\;  Gastküns
 tlerin: Marika Schmiedt (Wien). Im Fokus steht eine  künstlerisch-politis
 che Intervention\, in Zusammenarbeit mit der Akademie  der bildenden Küns
 te Wien\, Fachbereich Konzeptuelle Kunst  (Post-conceptual  Art Practices)
 .
LAST-MODIFIED:20240919T081217Z
URL:https://www.akbild.ac.at/de/institute/bildende-kunst/veranstaltungen/v
 ortrage-events/2017/marika-schmiedt-und-marissa-lobo-kuenstlerin-und-aktiv
 istin
END:VEVENT
BEGIN:VTIMEZONE
TZID:Europe/Vienna
X-LIC-LOCATION:Europe/Vienna
BEGIN:STANDARD
DTSTART:20171029T020000
TZNAME:CET
TZOFFSETFROM:+0200
TZOFFSETTO:+0100
END:STANDARD
END:VTIMEZONE
END:VCALENDAR
