BEGIN:VCALENDAR
VERSION:2.0
PRODID:-//Plone.org//NONSGML plone.app.event//EN
X-WR-TIMEZONE:Europe/Vienna
BEGIN:VEVENT
SUMMARY:Marika Schmiedt und Sebastian Bubner (Künstler und Lehrer)
DTSTART;TZID=Europe/Vienna:20171106T140000
DTSTAMP:20260425T134029Z
UID:e3fcfd7d158da1fd21171323d13c0f55@www.akbild.ac.at
CATEGORIES:Vorträge / Veranstaltungen
CREATED:20220312T085740Z
DESCRIPTION:Im Rahmen des Workshops\n \n  Intregration Nein Danke!\n \n mi
 t Gastvorträgen\, Videoprojektionen und Arbeitssitzungen\; Gastkünstleri
 n: Marika Schmiedt (Wien). Im Fokus steht eine künstlerisch-politische In
 tervention\, in Zusammenarbeit mit der Akademie der bildenden Künste Wien
 \, Fachbereich Konzeptuelle Kunst (Post-conceptual Art Practices).
LAST-MODIFIED:20240919T081217Z
URL:https://www.akbild.ac.at/de/institute/bildende-kunst/veranstaltungen/v
 ortrage-events/2017/marika-schmiedt-und-sebastian-bubner-kuenstler-und-leh
 rer
END:VEVENT
BEGIN:VTIMEZONE
TZID:Europe/Vienna
X-LIC-LOCATION:Europe/Vienna
BEGIN:STANDARD
DTSTART:20171029T020000
TZNAME:CET
TZOFFSETFROM:+0200
TZOFFSETTO:+0100
END:STANDARD
END:VTIMEZONE
END:VCALENDAR
