BEGIN:VCALENDAR
VERSION:2.0
PRODID:-//Plone.org//NONSGML plone.app.event//EN
X-WR-TIMEZONE:Europe/Vienna
BEGIN:VEVENT
SUMMARY:The Virtual & The A/V Sculptures
DTSTART;TZID=Europe/Vienna:20170117T120000
DTSTAMP:20260424T133427Z
UID:ef1b748567afdd916c23b52003b53160@www.akbild.ac.at
CATEGORIES:Vorträge / Veranstaltungen
CREATED:20220312T085633Z
DESCRIPTION:Vortrag von Station Rose organisiert vom Fachbereich Textile B
 ildhauerei (Heimo Zobernig).
LAST-MODIFIED:20240919T081217Z
URL:https://www.akbild.ac.at/de/institute/bildende-kunst/veranstaltungen/v
 ortrage-events/2017/the-virtual-the-a-v-sculptures
END:VEVENT
BEGIN:VTIMEZONE
TZID:Europe/Vienna
X-LIC-LOCATION:Europe/Vienna
BEGIN:STANDARD
DTSTART:20161030T020000
TZNAME:CET
TZOFFSETFROM:+0200
TZOFFSETTO:+0100
END:STANDARD
END:VTIMEZONE
END:VCALENDAR
