BEGIN:VCALENDAR
VERSION:2.0
PRODID:-//Plone.org//NONSGML plone.app.event//EN
X-WR-TIMEZONE:Europe/Vienna
BEGIN:VEVENT
SUMMARY:La Cueva | Opening Winter-Semester
DTSTART;TZID=Europe/Vienna:20181025T190000
DTSTAMP:20260423T211508Z
UID:45ee4dcbd468476dd24fd51a344ccf45@www.akbild.ac.at
CATEGORIES:Vorträge / Veranstaltungen
CREATED:20220312T085946Z
DESCRIPTION:Im Rahmen von Chambre d'amis\, Raum für aktuelle Kunst (Fachb
 ereich Video- und Videoinstallation) und Soundlabor.
LAST-MODIFIED:20240919T081213Z
URL:https://www.akbild.ac.at/de/institute/bildende-kunst/veranstaltungen/v
 ortrage-events/2018/la-cueva-opening-winter-semester
END:VEVENT
BEGIN:VTIMEZONE
TZID:Europe/Vienna
X-LIC-LOCATION:Europe/Vienna
BEGIN:DAYLIGHT
DTSTART:20180325T030000
TZNAME:CEST
TZOFFSETFROM:+0100
TZOFFSETTO:+0200
END:DAYLIGHT
END:VTIMEZONE
END:VCALENDAR
