BEGIN:VCALENDAR
VERSION:2.0
PRODID:-//Plone.org//NONSGML plone.app.event//EN
X-WR-TIMEZONE:Europe/Vienna
BEGIN:VEVENT
SUMMARY:The Right to Say No (To Mining)
DTSTART;TZID=Europe/Vienna:20181126T130000
DTSTAMP:20260424T135352Z
UID:62c24ffe2f06af18300adb96a7953d1b@www.akbild.ac.at
CATEGORIES:Vorträge / Veranstaltungen
CREATED:20220312T090024Z
DESCRIPTION:Nonhle Mbuthuma\n \n is the spokesperson of Amadiba Crisis Com
 mittee/South Africa.\n \n Introduction and moderation by Jakob Krameritsch
  (IKW) and Maren Grimm (IBK).
LAST-MODIFIED:20240919T081213Z
URL:https://www.akbild.ac.at/de/institute/bildende-kunst/veranstaltungen/v
 ortrage-events/2018/the-right-to-say-no-to-mining
END:VEVENT
BEGIN:VTIMEZONE
TZID:Europe/Vienna
X-LIC-LOCATION:Europe/Vienna
BEGIN:STANDARD
DTSTART:20181028T020000
TZNAME:CET
TZOFFSETFROM:+0200
TZOFFSETTO:+0100
END:STANDARD
END:VTIMEZONE
END:VCALENDAR
