BEGIN:VCALENDAR
VERSION:2.0
PRODID:-//Plone.org//NONSGML plone.app.event//EN
X-WR-TIMEZONE:Europe/Vienna
BEGIN:VEVENT
SUMMARY:Wann gibt π endlich auf?
DTSTART;TZID=Europe/Vienna:20181108T180000
DTSTAMP:20260424T114242Z
UID:dda2e2e75f83c211d307272a681becc4@www.akbild.ac.at
CATEGORIES:Vorträge / Veranstaltungen
CREATED:20220312T090009Z
DESCRIPTION:Vortrag von PRINZpod veranstaltet vom Fachbereich Kunst mit er
 weiterter malerischer Raum-Aktion / Skulptur / Installation im öffentlich
 en Raum im Rahmen der Ringvorlesung IBK Wintersemester 2018/19
LAST-MODIFIED:20240919T081213Z
URL:https://www.akbild.ac.at/de/institute/bildende-kunst/veranstaltungen/v
 ortrage-events/2018/wann-gibt-3c0-endlich-auf
END:VEVENT
BEGIN:VTIMEZONE
TZID:Europe/Vienna
X-LIC-LOCATION:Europe/Vienna
BEGIN:STANDARD
DTSTART:20181028T020000
TZNAME:CET
TZOFFSETFROM:+0200
TZOFFSETTO:+0100
END:STANDARD
END:VTIMEZONE
END:VCALENDAR
