BEGIN:VCALENDAR
VERSION:2.0
PRODID:-//Plone.org//NONSGML plone.app.event//EN
X-WR-TIMEZONE:Europe/Vienna
BEGIN:VEVENT
SUMMARY:Beyond the Gaze: On Orit Ishay's "Someone Has Been Sleeping In My 
 Bed" Project
DTSTART;TZID=Europe/Vienna:20190325T190000
DTSTAMP:20260423T211506Z
UID:d6014ef424cb4143fb4169f9afa0f247@www.akbild.ac.at
CATEGORIES:Vorträge / Veranstaltungen
CREATED:20220312T090052Z
DESCRIPTION:Panel discussion with Orit Ishay\, Basak Senova\, and Christin
 e Bruckbauer\, moderated by Marina Grzinic\, Studio for Conceptual Art (PC
 AP Post-conceptual Art Practices)
LAST-MODIFIED:20240919T081209Z
URL:https://www.akbild.ac.at/de/institute/bildende-kunst/veranstaltungen/v
 ortrage-events/2019/beyond-the-gaze-on-orit-ishays-someone-has-been-sleepi
 ng-in-my-bed-project
END:VEVENT
BEGIN:VTIMEZONE
TZID:Europe/Vienna
X-LIC-LOCATION:Europe/Vienna
BEGIN:STANDARD
DTSTART:20181028T020000
TZNAME:CET
TZOFFSETFROM:+0200
TZOFFSETTO:+0100
END:STANDARD
END:VTIMEZONE
END:VCALENDAR
