BEGIN:VCALENDAR
VERSION:2.0
PRODID:-//Plone.org//NONSGML plone.app.event//EN
X-WR-TIMEZONE:Europe/Vienna
BEGIN:VEVENT
SUMMARY:Imran Qureshi spricht über zeitgenössische Miniaturmalerei in Pa
 kistan und seine eigene Arbeit
DTSTART;TZID=Europe/Vienna:20190523T180000
DTSTAMP:20260419T132258Z
UID:5dbc7019c57a90a24a03bc04b9c3e6a2@www.akbild.ac.at
CATEGORIES:Vorträge / Veranstaltungen
CREATED:20220312T090125Z
DESCRIPTION:Vortrag veranstaltet vom Fachbereich Kunst mit erweiterter mal
 erischer Raum–Aktion / Skulptur / Installation im öffentlichen Raum ( J
 udith Huemer)
LAST-MODIFIED:20240919T081209Z
URL:https://www.akbild.ac.at/de/institute/bildende-kunst/veranstaltungen/v
 ortrage-events/2019/imran-qureshi-spricht-u308ber-zeitgeno308ssische-minia
 turmalerei-in-pakistan-und-seine-eigene-arbeit
END:VEVENT
BEGIN:VTIMEZONE
TZID:Europe/Vienna
X-LIC-LOCATION:Europe/Vienna
BEGIN:DAYLIGHT
DTSTART:20190331T030000
TZNAME:CEST
TZOFFSETFROM:+0100
TZOFFSETTO:+0200
END:DAYLIGHT
END:VTIMEZONE
END:VCALENDAR
