BEGIN:VCALENDAR
VERSION:2.0
PRODID:-//Plone.org//NONSGML plone.app.event//EN
X-WR-TIMEZONE:Europe/Vienna
BEGIN:VEVENT
SUMMARY:Commonales Leben
DTSTART;TZID=Europe/Vienna:20200312T193000
DTSTAMP:20260425T024215Z
UID:0fa172c772f666378257334e2fce693c@www.akbild.ac.at
CATEGORIES:Vorträge / Veranstaltungen
CREATED:20220312T090229Z
DESCRIPTION:ABGESAGT!!\n \n\n\n Vorträge von Mara Verlič (\n \n  Wohnung
 skrise gestern und heute?\n \n ) und Niki Kubaczek (\n \n  Munizipalistisc
 he Bewegungen und solidarische Städte\n \n ) mit anschließender Diskussi
 on im Rahmen der Ringvorlesung des IBK Sose 2020.
LAST-MODIFIED:20240919T081209Z
URL:https://www.akbild.ac.at/de/institute/bildende-kunst/veranstaltungen/v
 ortrage-events/2020/commonales-leben
END:VEVENT
BEGIN:VTIMEZONE
TZID:Europe/Vienna
X-LIC-LOCATION:Europe/Vienna
BEGIN:STANDARD
DTSTART:20191027T020000
TZNAME:CET
TZOFFSETFROM:+0200
TZOFFSETTO:+0100
END:STANDARD
END:VTIMEZONE
END:VCALENDAR
