BEGIN:VCALENDAR
VERSION:2.0
PRODID:-//Plone.org//NONSGML plone.app.event//EN
X-WR-TIMEZONE:Europe/Vienna
BEGIN:VEVENT
SUMMARY:The Book of S of I. Chapter One: Creatures born from Hopelessness
DTSTART;TZID=Europe/Vienna:20200613T200000
DTSTAMP:20260423T221117Z
UID:4b6fb3d5b0eb6e94184ebbff73961124@www.akbild.ac.at
CATEGORIES:Vorträge / Veranstaltungen
CREATED:20220312T090252Z
DESCRIPTION:Ein Filmprojekt von Studierenden und Alumni der Akademie der b
 ildenden Künste Wien\n \n Mit: Sophie Utikal\, Kontextuelle Malerei\; Mal
 u Blume\, Master of Critical Studies\; İpek Hamzaoğlu\, Master of Critic
 al Studies\; Laura Nitsch\, Master of Critical Studies\; Magdalena Fischer
 \, Konzeptuelle Kunst\; Rosa Wiessauer\, Video und Videoinstallation\; Cam
 illa Rhodi\, Video und Videoinstallation\n\n\n Livestream\n \n  hkw.de
LAST-MODIFIED:20240919T081209Z
URL:https://www.akbild.ac.at/de/institute/bildende-kunst/veranstaltungen/v
 ortrage-events/2020/the-book-of-s-of-i.-chapter-one-creatures-born-from-ho
 pelessness
END:VEVENT
BEGIN:VTIMEZONE
TZID:Europe/Vienna
X-LIC-LOCATION:Europe/Vienna
BEGIN:DAYLIGHT
DTSTART:20200329T030000
TZNAME:CEST
TZOFFSETFROM:+0100
TZOFFSETTO:+0200
END:DAYLIGHT
END:VTIMEZONE
END:VCALENDAR
