BEGIN:VCALENDAR
VERSION:2.0
PRODID:-//Plone.org//NONSGML plone.app.event//EN
X-WR-TIMEZONE:Europe/Vienna
BEGIN:VEVENT
SUMMARY:VAIN CASTING LIVE Episode 3
DTSTART;TZID=Europe/Vienna:20200529T201500
DTSTAMP:20260423T131927Z
UID:779cfbfbb40824d7aef6e1e1e91efaf4@www.akbild.ac.at
CATEGORIES:Vorträge / Veranstaltungen
CREATED:20220312T090248Z
DESCRIPTION:This episode of the performance series will be broadcast via f
 acebook and feature Alexandru Cosarca\, student at the Academy of Fine Art
 s Vienna\, Studio for Contextual Painting\, to go through an unique interv
 iew process and have his behind eternalised in gold.\n\n\n \n  \n   This e
 pisode is produced with friendly support of Bildrecht and RCS Showrooms.\n
   \n \n \n The Streaming-Link will be announced soon at\n \n \n \n  https:
 //www.facebook.com/events/2635990719971296/
LAST-MODIFIED:20240919T081209Z
URL:https://www.akbild.ac.at/de/institute/bildende-kunst/veranstaltungen/v
 ortrage-events/2020/vaincasting-live-episode-3
END:VEVENT
BEGIN:VTIMEZONE
TZID:Europe/Vienna
X-LIC-LOCATION:Europe/Vienna
BEGIN:DAYLIGHT
DTSTART:20200329T030000
TZNAME:CEST
TZOFFSETFROM:+0100
TZOFFSETTO:+0200
END:DAYLIGHT
END:VTIMEZONE
END:VCALENDAR
