BEGIN:VCALENDAR
VERSION:2.0
PRODID:-//Plone.org//NONSGML plone.app.event//EN
X-WR-TIMEZONE:Europe/Vienna
BEGIN:VEVENT
SUMMARY:2 Days Animation Festival Online
DTSTART;VALUE=DATE:20210118
DTEND;VALUE=DATE:20210201
DTSTAMP:20260424T044850Z
UID:f60ff197112756571c1ecd16522e4d3c@www.akbild.ac.at
CATEGORIES:Vorträge / Veranstaltungen
CREATED:20220312T090313Z
DESCRIPTION:Das 2  DAYS ANIMATION FESTIVAL ONLINE findet in Form einer Ko
 operation des Labors für Künstlerischen Animationsfilm mit ASIFA Austria
  (der österreichischen Zweigstelle der ASIFA - Association du Film d'Anim
 ation) statt.\n \n \n  Sieben Filme von Studierenden der Akademie der bild
 enden Künste sind im BEST AUSTRIAN ANIMATION Wettbewerb vertreten.\n \n\n
 \n Es wird über das Festivalportal unter\n \n \n \n  \n   www.best-austri
 an-animation.at\n  \n \n \n \n international erreichbar sein.
LAST-MODIFIED:20240919T081206Z
URL:https://www.akbild.ac.at/de/institute/bildende-kunst/veranstaltungen/v
 ortrage-events/2021/2-days-animation-festival-online
END:VEVENT
END:VCALENDAR
