BEGIN:VCALENDAR
VERSION:2.0
PRODID:-//Plone.org//NONSGML plone.app.event//EN
X-WR-TIMEZONE:Europe/Vienna
BEGIN:VEVENT
SUMMARY:Doireann O'Malley\, Universitätsprofessur für Gender and Space
DTSTART;TZID=Europe/Vienna:20211028T180000
DTSTAMP:20260424T041135Z
UID:d677564062a24f7ad9a683d668820039@www.akbild.ac.at
CATEGORIES:Vorträge / Veranstaltungen
CREATED:20220312T090434Z
DESCRIPTION:Vortrag von Doireann O'Malley im Rahmen der IBK Ringvorlesung.
 \n\n\n Zoom-Link:\n \n  https://akbild-ac-at.zoom.us/j/97682237209
LAST-MODIFIED:20240919T081206Z
URL:https://www.akbild.ac.at/de/institute/bildende-kunst/veranstaltungen/v
 ortrage-events/2021/doireann-omalley-universitaetsprofessur-fuer-gender-an
 d-space
END:VEVENT
BEGIN:VTIMEZONE
TZID:Europe/Vienna
X-LIC-LOCATION:Europe/Vienna
BEGIN:DAYLIGHT
DTSTART:20210328T030000
TZNAME:CEST
TZOFFSETFROM:+0100
TZOFFSETTO:+0200
END:DAYLIGHT
END:VTIMEZONE
END:VCALENDAR
