BEGIN:VCALENDAR
VERSION:2.0
PRODID:-//Plone.org//NONSGML plone.app.event//EN
X-WR-TIMEZONE:Europe/Vienna
BEGIN:VEVENT
SUMMARY:Leap Before You Look: Black Mountain College 1933-57. A Curatorial
  Case Study
DTSTART;TZID=Europe/Vienna:20211110T150000
DTSTAMP:20260425T212533Z
UID:fb95afcf87075e933bf4be3ba9f6e639@www.akbild.ac.at
CATEGORIES:Vorträge / Veranstaltungen
CREATED:20220312T090440Z
DESCRIPTION:Lecture by Ruth Erickson organized by the studio of Sculpture
  and Spatial Strategies.\n \n \n  Registration for Zoom link to\n  \n  \n 
 \n \n  \n   dimitrova@akbild.ac\n  \n  \n   .at
LAST-MODIFIED:20240919T081206Z
URL:https://www.akbild.ac.at/de/institute/bildende-kunst/veranstaltungen/v
 ortrage-events/2021/leap-before-you-look-black-mountain-college-1933-57.-a
 -curatorial-case-study
END:VEVENT
BEGIN:VTIMEZONE
TZID:Europe/Vienna
X-LIC-LOCATION:Europe/Vienna
BEGIN:STANDARD
DTSTART:20211031T020000
TZNAME:CET
TZOFFSETFROM:+0200
TZOFFSETTO:+0100
END:STANDARD
END:VTIMEZONE
END:VCALENDAR
