BEGIN:VCALENDAR
VERSION:2.0
PRODID:-//Plone.org//NONSGML plone.app.event//EN
X-WR-TIMEZONE:Europe/Vienna
BEGIN:VEVENT
SUMMARY:Postsocialist materialisms | Contemporary artistic practices from 
 China
DTSTART;TZID=Europe/Vienna:20211207T120000
DTSTAMP:20260423T132115Z
UID:36fbc3ab6050d20ecc7bae253c569c1d@www.akbild.ac.at
CATEGORIES:Vorträge / Veranstaltungen
CREATED:20220312T090507Z
DESCRIPTION:Guest lecture by Freda Fiala organized by the studio Textual S
 culpture. In English.\n \n\n\n Zoom-Meeting:\n \n \n  \n   https://akbild-
 ac-at.zoom.us/j/96563706573
LAST-MODIFIED:20240919T081209Z
URL:https://www.akbild.ac.at/de/institute/bildende-kunst/veranstaltungen/v
 ortrage-events/2021/postsocialist-materialisms-contemporary-artistic-pract
 ices-from-china
END:VEVENT
BEGIN:VTIMEZONE
TZID:Europe/Vienna
X-LIC-LOCATION:Europe/Vienna
BEGIN:STANDARD
DTSTART:20211031T020000
TZNAME:CET
TZOFFSETFROM:+0200
TZOFFSETTO:+0100
END:STANDARD
END:VTIMEZONE
END:VCALENDAR
