BEGIN:VCALENDAR
VERSION:2.0
PRODID:-//Plone.org//NONSGML plone.app.event//EN
X-WR-TIMEZONE:Europe/Vienna
BEGIN:VEVENT
SUMMARY:Versuche 21
DTSTART;TZID=Europe/Vienna:20211014T190000
DTSTAMP:20260423T114159Z
UID:c67dbfe804dbe16634da8ce231b8fcad@www.akbild.ac.at
CATEGORIES:Vorträge / Veranstaltungen
CREATED:20220312T090424Z
DESCRIPTION:Filmvorführung des Fachbereichs Kunst und Film.\n \n \n  \n  
 \n \n \n  https://www.breitenseer-lichtspiele.at/event/versuche-21-filmvor
 fuehrung-der-klasse-kunstfilm/
LAST-MODIFIED:20240919T081206Z
URL:https://www.akbild.ac.at/de/institute/bildende-kunst/veranstaltungen/v
 ortrage-events/2021/versuche-21
END:VEVENT
BEGIN:VTIMEZONE
TZID:Europe/Vienna
X-LIC-LOCATION:Europe/Vienna
BEGIN:DAYLIGHT
DTSTART:20210328T030000
TZNAME:CEST
TZOFFSETFROM:+0100
TZOFFSETTO:+0200
END:DAYLIGHT
END:VTIMEZONE
END:VCALENDAR
